BEGIN:VCALENDAR
PRODID:-//Calendar export
VERSION:2.0
X-WR-TIMEZONE:Etc/GMT
BEGIN:VTIMEZONE
TZID:GMT Standard Time
BEGIN:STANDARD
TZOFFSETFROM:+0000
TZOFFSETTO:+0000
END:STANDARD
END:VTIMEZONE
BEGIN:VEVENT
UID:AE6217
DTSTAMP:20260422T130600Z
SUMMARY:Literarni večer z Aljošo Harlamovom
CLASS:PUBLIC
DESCRIPTION:
STATUS:CONFIRMED
PRIORITY:1
DTSTART:20260423T170000Z
DTEND:20260423T180000Z
TRANSP:OPAQUE
END:VEVENT
END:VCALENDAR
